BEGIN:VCALENDAR
VERSION:2.0
PRODID:-//CHASI - ECPv6.15.18//NONSGML v1.0//EN
CALSCALE:GREGORIAN
METHOD:PUBLISH
X-WR-CALNAME:CHASI
X-ORIGINAL-URL:https://chasiny.org
X-WR-CALDESC:Events for CHASI
REFRESH-INTERVAL;VALUE=DURATION:PT1H
X-Robots-Tag:noindex
X-PUBLISHED-TTL:PT1H
BEGIN:VTIMEZONE
TZID:America/New_York
BEGIN:DAYLIGHT
TZOFFSETFROM:-0500
TZOFFSETTO:-0400
TZNAME:EDT
DTSTART:20240310T070000
END:DAYLIGHT
BEGIN:STANDARD
TZOFFSETFROM:-0400
TZOFFSETTO:-0500
TZNAME:EST
DTSTART:20241103T060000
END:STANDARD
BEGIN:DAYLIGHT
TZOFFSETFROM:-0500
TZOFFSETTO:-0400
TZNAME:EDT
DTSTART:20250309T070000
END:DAYLIGHT
BEGIN:STANDARD
TZOFFSETFROM:-0400
TZOFFSETTO:-0500
TZNAME:EST
DTSTART:20251102T060000
END:STANDARD
BEGIN:DAYLIGHT
TZOFFSETFROM:-0500
TZOFFSETTO:-0400
TZNAME:EDT
DTSTART:20260308T070000
END:DAYLIGHT
BEGIN:STANDARD
TZOFFSETFROM:-0400
TZOFFSETTO:-0500
TZNAME:EST
DTSTART:20261101T060000
END:STANDARD
END:VTIMEZONE
BEGIN:VEVENT
DTSTART;TZID=America/New_York:20251219T100000
DTEND;TZID=America/New_York:20251219T110000
DTSTAMP:20260421T174614
CREATED:20250611T204353Z
LAST-MODIFIED:20250611T204353Z
UID:10003554-1766138400-1766142000@chasiny.org
SUMMARY:Living Life Up
DESCRIPTION:
URL:https://chasiny.org/event/living-life-up/2025-12-19/
LOCATION:Next Step Resource & Recovery Center\, 56 Bay Street\, 1st Floor\, Staten Island\, NY\, 10301\, United States
CATEGORIES:Support Groups
ORGANIZER;CN="Next Step Resource & Recovery Center":MAILTO:training@chasiny.org
END:VEVENT
BEGIN:VEVENT
DTSTART;TZID=America/New_York:20251219T111500
DTEND;TZID=America/New_York:20251219T121500
DTSTAMP:20260421T174614
CREATED:20250611T204236Z
LAST-MODIFIED:20250611T204236Z
UID:10003815-1766142900-1766146500@chasiny.org
SUMMARY:Relapse Prevention
DESCRIPTION:
URL:https://chasiny.org/event/relapse-prevention/2025-12-19/
LOCATION:Next Step Resource & Recovery Center\, 56 Bay Street\, 1st Floor\, Staten Island\, NY\, 10301\, United States
CATEGORIES:Support Groups
ORGANIZER;CN="Next Step Resource & Recovery Center":MAILTO:training@chasiny.org
END:VEVENT
BEGIN:VEVENT
DTSTART;TZID=America/New_York:20251219T130000
DTEND;TZID=America/New_York:20251219T140000
DTSTAMP:20260421T174614
CREATED:20250611T204203Z
LAST-MODIFIED:20250611T204203Z
UID:10004076-1766149200-1766152800@chasiny.org
SUMMARY:Creative Writing & Crafting Corner
DESCRIPTION:
URL:https://chasiny.org/event/creative-writing-crafting-corner/2025-12-19/
LOCATION:Next Step Resource & Recovery Center\, 56 Bay Street\, 1st Floor\, Staten Island\, NY\, 10301\, United States
CATEGORIES:Support Groups
ORGANIZER;CN="Next Step Resource & Recovery Center":MAILTO:training@chasiny.org
END:VEVENT
BEGIN:VEVENT
DTSTART;TZID=America/New_York:20251219T180000
DTEND;TZID=America/New_York:20251219T200000
DTSTAMP:20260421T174614
CREATED:20250611T202019Z
LAST-MODIFIED:20250611T204032Z
UID:10004337-1766167200-1766174400@chasiny.org
SUMMARY:Movie Night
DESCRIPTION:
URL:https://chasiny.org/event/movie-night/2025-12-19/
LOCATION:Next Step Resource & Recovery Center\, 56 Bay Street\, 1st Floor\, Staten Island\, NY\, 10301\, United States
CATEGORIES:Support Groups
ORGANIZER;CN="Next Step Resource & Recovery Center":MAILTO:training@chasiny.org
END:VEVENT
END:VCALENDAR