BEGIN:VCALENDAR
VERSION:2.0
PRODID:-//CHASI - ECPv6.15.18//NONSGML v1.0//EN
CALSCALE:GREGORIAN
METHOD:PUBLISH
X-ORIGINAL-URL:https://chasiny.org
X-WR-CALDESC:Events for CHASI
REFRESH-INTERVAL;VALUE=DURATION:PT1H
X-Robots-Tag:noindex
X-PUBLISHED-TTL:PT1H
BEGIN:VTIMEZONE
TZID:America/New_York
BEGIN:DAYLIGHT
TZOFFSETFROM:-0500
TZOFFSETTO:-0400
TZNAME:EDT
DTSTART:20250309T070000
END:DAYLIGHT
BEGIN:STANDARD
TZOFFSETFROM:-0400
TZOFFSETTO:-0500
TZNAME:EST
DTSTART:20251102T060000
END:STANDARD
BEGIN:DAYLIGHT
TZOFFSETFROM:-0500
TZOFFSETTO:-0400
TZNAME:EDT
DTSTART:20260308T070000
END:DAYLIGHT
BEGIN:STANDARD
TZOFFSETFROM:-0400
TZOFFSETTO:-0500
TZNAME:EST
DTSTART:20261101T060000
END:STANDARD
BEGIN:DAYLIGHT
TZOFFSETFROM:-0500
TZOFFSETTO:-0400
TZNAME:EDT
DTSTART:20270314T070000
END:DAYLIGHT
BEGIN:STANDARD
TZOFFSETFROM:-0400
TZOFFSETTO:-0500
TZNAME:EST
DTSTART:20271107T060000
END:STANDARD
END:VTIMEZONE
BEGIN:VEVENT
DTSTART;TZID=America/New_York:20261113T100000
DTEND;TZID=America/New_York:20261113T110000
DTSTAMP:20260421T225415
CREATED:20250611T204353Z
LAST-MODIFIED:20250611T204353Z
UID:10003601-1794564000-1794567600@chasiny.org
SUMMARY:Living Life Up
DESCRIPTION:
URL:https://chasiny.org/event/living-life-up/2026-11-13/
LOCATION:Next Step Resource & Recovery Center\, 56 Bay Street\, 1st Floor\, Staten Island\, NY\, 10301\, United States
CATEGORIES:Support Groups
ORGANIZER;CN="Next Step Resource & Recovery Center":MAILTO:training@chasiny.org
END:VEVENT
BEGIN:VEVENT
DTSTART;TZID=America/New_York:20261113T111500
DTEND;TZID=America/New_York:20261113T121500
DTSTAMP:20260421T225415
CREATED:20250611T204236Z
LAST-MODIFIED:20250611T204236Z
UID:10003862-1794568500-1794572100@chasiny.org
SUMMARY:Relapse Prevention
DESCRIPTION:
URL:https://chasiny.org/event/relapse-prevention/2026-11-13/
LOCATION:Next Step Resource & Recovery Center\, 56 Bay Street\, 1st Floor\, Staten Island\, NY\, 10301\, United States
CATEGORIES:Support Groups
ORGANIZER;CN="Next Step Resource & Recovery Center":MAILTO:training@chasiny.org
END:VEVENT
BEGIN:VEVENT
DTSTART;TZID=America/New_York:20261113T130000
DTEND;TZID=America/New_York:20261113T140000
DTSTAMP:20260421T225415
CREATED:20250611T204203Z
LAST-MODIFIED:20250611T204203Z
UID:10004123-1794574800-1794578400@chasiny.org
SUMMARY:Creative Writing & Crafting Corner
DESCRIPTION:
URL:https://chasiny.org/event/creative-writing-crafting-corner/2026-11-13/
LOCATION:Next Step Resource & Recovery Center\, 56 Bay Street\, 1st Floor\, Staten Island\, NY\, 10301\, United States
CATEGORIES:Support Groups
ORGANIZER;CN="Next Step Resource & Recovery Center":MAILTO:training@chasiny.org
END:VEVENT
BEGIN:VEVENT
DTSTART;TZID=America/New_York:20261113T180000
DTEND;TZID=America/New_York:20261113T200000
DTSTAMP:20260421T225415
CREATED:20250611T202019Z
LAST-MODIFIED:20250611T204032Z
UID:10004384-1794592800-1794600000@chasiny.org
SUMMARY:Movie Night
DESCRIPTION:
URL:https://chasiny.org/event/movie-night/2026-11-13/
LOCATION:Next Step Resource & Recovery Center\, 56 Bay Street\, 1st Floor\, Staten Island\, NY\, 10301\, United States
CATEGORIES:Support Groups
ORGANIZER;CN="Next Step Resource & Recovery Center":MAILTO:training@chasiny.org
END:VEVENT
END:VCALENDAR