BEGIN:VCALENDAR
VERSION:2.0
PRODID:-//CHASI - ECPv6.15.20//NONSGML v1.0//EN
CALSCALE:GREGORIAN
METHOD:PUBLISH
X-ORIGINAL-URL:https://chasiny.org
X-WR-CALDESC:Events for CHASI
REFRESH-INTERVAL;VALUE=DURATION:PT1H
X-Robots-Tag:noindex
X-PUBLISHED-TTL:PT1H
BEGIN:VTIMEZONE
TZID:America/New_York
BEGIN:DAYLIGHT
TZOFFSETFROM:-0500
TZOFFSETTO:-0400
TZNAME:EDT
DTSTART:20230312T070000
END:DAYLIGHT
BEGIN:STANDARD
TZOFFSETFROM:-0400
TZOFFSETTO:-0500
TZNAME:EST
DTSTART:20231105T060000
END:STANDARD
BEGIN:DAYLIGHT
TZOFFSETFROM:-0500
TZOFFSETTO:-0400
TZNAME:EDT
DTSTART:20240310T070000
END:DAYLIGHT
BEGIN:STANDARD
TZOFFSETFROM:-0400
TZOFFSETTO:-0500
TZNAME:EST
DTSTART:20241103T060000
END:STANDARD
BEGIN:DAYLIGHT
TZOFFSETFROM:-0500
TZOFFSETTO:-0400
TZNAME:EDT
DTSTART:20250309T070000
END:DAYLIGHT
BEGIN:STANDARD
TZOFFSETFROM:-0400
TZOFFSETTO:-0500
TZNAME:EST
DTSTART:20251102T060000
END:STANDARD
BEGIN:DAYLIGHT
TZOFFSETFROM:-0500
TZOFFSETTO:-0400
TZNAME:EDT
DTSTART:20260308T070000
END:DAYLIGHT
BEGIN:STANDARD
TZOFFSETFROM:-0400
TZOFFSETTO:-0500
TZNAME:EST
DTSTART:20261101T060000
END:STANDARD
END:VTIMEZONE
BEGIN:VEVENT
DTSTART;TZID=America/New_York:20250611T180000
DTEND;TZID=America/New_York:20250611T190000
DTSTAMP:20260422T154023
CREATED:20250611T204327Z
LAST-MODIFIED:20250611T204327Z
UID:10003002-1749664800-1749668400@chasiny.org
SUMMARY:Game Night Warrior Wednesday
DESCRIPTION:
URL:https://chasiny.org/event/game-night-warrior-wednesday/
LOCATION:Next Step Resource & Recovery Center\, 56 Bay Street\, 1st Floor\, Staten Island\, NY\, 10301\, United States
CATEGORIES:Support Groups
ORGANIZER;CN="Next Step Resource & Recovery Center":MAILTO:training@chasiny.org
END:VEVENT
BEGIN:VEVENT
DTSTART;TZID=America/New_York:20240907T100000
DTEND;TZID=America/New_York:20240907T110000
DTSTAMP:20260422T154023
CREATED:20240729T205624Z
LAST-MODIFIED:20240808T150704Z
UID:10000357-1725703200-1725706800@chasiny.org
SUMMARY:Stress Management
DESCRIPTION:Through guided exercises\, group discussions\, and relaxation practices\, you’ll gain valuable skills to navigate the stresses of life. Take a deep breath … and do something good for yourself.
URL:https://chasiny.org/event/stress-management/2024-09-07/
LOCATION:Next Step Resource & Recovery Center\, 56 Bay Street\, 1st Floor\, Staten Island\, NY\, 10301\, United States
CATEGORIES:Support Groups
ORGANIZER;CN="Next Step Resource & Recovery Center":MAILTO:training@chasiny.org
END:VEVENT
BEGIN:VEVENT
DTSTART;TZID=America/New_York:20240904T120000
DTEND;TZID=America/New_York:20240904T130000
DTSTAMP:20260422T154023
CREATED:20240729T205659Z
LAST-MODIFIED:20240730T150830Z
UID:10000362-1725451200-1725454800@chasiny.org
SUMMARY:Men's Support Group
DESCRIPTION:Each session covers topics relevant to men’s lives\, such as mental health\, relationships\, career pressures\, and personal growth. Connect with others who understand your journey and build lasting bonds. We’ll have honest\, open conversations about survival and resilience. (This group is right for anyone who identifies as a man. All groups at Next Step are LGBTQ+ affirming.)
URL:https://chasiny.org/event/mens-support-group/2024-09-04/
LOCATION:Next Step Resource & Recovery Center\, 56 Bay Street\, 1st Floor\, Staten Island\, NY\, 10301\, United States
CATEGORIES:Support Groups
ORGANIZER;CN="Next Step Resource & Recovery Center":MAILTO:training@chasiny.org
END:VEVENT
BEGIN:VEVENT
DTSTART;TZID=America/New_York:20240831T100000
DTEND;TZID=America/New_York:20240831T110000
DTSTAMP:20260422T154023
CREATED:20240729T205624Z
LAST-MODIFIED:20240808T150704Z
UID:10000356-1725098400-1725102000@chasiny.org
SUMMARY:Stress Management
DESCRIPTION:Through guided exercises\, group discussions\, and relaxation practices\, you’ll gain valuable skills to navigate the stresses of life. Take a deep breath … and do something good for yourself.
URL:https://chasiny.org/event/stress-management/2024-08-31/
LOCATION:Next Step Resource & Recovery Center\, 56 Bay Street\, 1st Floor\, Staten Island\, NY\, 10301\, United States
CATEGORIES:Support Groups
ORGANIZER;CN="Next Step Resource & Recovery Center":MAILTO:training@chasiny.org
END:VEVENT
BEGIN:VEVENT
DTSTART;TZID=America/New_York:20240828T120000
DTEND;TZID=America/New_York:20240828T130000
DTSTAMP:20260422T154023
CREATED:20240729T205659Z
LAST-MODIFIED:20240730T150830Z
UID:10000361-1724846400-1724850000@chasiny.org
SUMMARY:Men's Support Group
DESCRIPTION:Each session covers topics relevant to men’s lives\, such as mental health\, relationships\, career pressures\, and personal growth. Connect with others who understand your journey and build lasting bonds. We’ll have honest\, open conversations about survival and resilience. (This group is right for anyone who identifies as a man. All groups at Next Step are LGBTQ+ affirming.)
URL:https://chasiny.org/event/mens-support-group/2024-08-28/
LOCATION:Next Step Resource & Recovery Center\, 56 Bay Street\, 1st Floor\, Staten Island\, NY\, 10301\, United States
CATEGORIES:Support Groups
ORGANIZER;CN="Next Step Resource & Recovery Center":MAILTO:training@chasiny.org
END:VEVENT
BEGIN:VEVENT
DTSTART;TZID=America/New_York:20240824T100000
DTEND;TZID=America/New_York:20240824T110000
DTSTAMP:20260422T154023
CREATED:20240729T205624Z
LAST-MODIFIED:20240808T150704Z
UID:10000355-1724493600-1724497200@chasiny.org
SUMMARY:Stress Management
DESCRIPTION:Through guided exercises\, group discussions\, and relaxation practices\, you’ll gain valuable skills to navigate the stresses of life. Take a deep breath … and do something good for yourself.
URL:https://chasiny.org/event/stress-management/2024-08-24/
LOCATION:Next Step Resource & Recovery Center\, 56 Bay Street\, 1st Floor\, Staten Island\, NY\, 10301\, United States
CATEGORIES:Support Groups
ORGANIZER;CN="Next Step Resource & Recovery Center":MAILTO:training@chasiny.org
END:VEVENT
BEGIN:VEVENT
DTSTART;TZID=America/New_York:20240821T120000
DTEND;TZID=America/New_York:20240821T130000
DTSTAMP:20260422T154023
CREATED:20240729T205659Z
LAST-MODIFIED:20240730T150830Z
UID:10000360-1724241600-1724245200@chasiny.org
SUMMARY:Men's Support Group
DESCRIPTION:Each session covers topics relevant to men’s lives\, such as mental health\, relationships\, career pressures\, and personal growth. Connect with others who understand your journey and build lasting bonds. We’ll have honest\, open conversations about survival and resilience. (This group is right for anyone who identifies as a man. All groups at Next Step are LGBTQ+ affirming.)
URL:https://chasiny.org/event/mens-support-group/2024-08-21/
LOCATION:Next Step Resource & Recovery Center\, 56 Bay Street\, 1st Floor\, Staten Island\, NY\, 10301\, United States
CATEGORIES:Support Groups
ORGANIZER;CN="Next Step Resource & Recovery Center":MAILTO:training@chasiny.org
END:VEVENT
BEGIN:VEVENT
DTSTART;TZID=America/New_York:20240817T100000
DTEND;TZID=America/New_York:20240817T110000
DTSTAMP:20260422T154023
CREATED:20240729T205624Z
LAST-MODIFIED:20240808T150704Z
UID:10000354-1723888800-1723892400@chasiny.org
SUMMARY:Stress Management
DESCRIPTION:Through guided exercises\, group discussions\, and relaxation practices\, you’ll gain valuable skills to navigate the stresses of life. Take a deep breath … and do something good for yourself.
URL:https://chasiny.org/event/stress-management/2024-08-17/
LOCATION:Next Step Resource & Recovery Center\, 56 Bay Street\, 1st Floor\, Staten Island\, NY\, 10301\, United States
CATEGORIES:Support Groups
ORGANIZER;CN="Next Step Resource & Recovery Center":MAILTO:training@chasiny.org
END:VEVENT
BEGIN:VEVENT
DTSTART;TZID=America/New_York:20240814T120000
DTEND;TZID=America/New_York:20240814T130000
DTSTAMP:20260422T154023
CREATED:20240729T205659Z
LAST-MODIFIED:20240730T150830Z
UID:10000359-1723636800-1723640400@chasiny.org
SUMMARY:Men's Support Group
DESCRIPTION:Each session covers topics relevant to men’s lives\, such as mental health\, relationships\, career pressures\, and personal growth. Connect with others who understand your journey and build lasting bonds. We’ll have honest\, open conversations about survival and resilience. (This group is right for anyone who identifies as a man. All groups at Next Step are LGBTQ+ affirming.)
URL:https://chasiny.org/event/mens-support-group/2024-08-14/
LOCATION:Next Step Resource & Recovery Center\, 56 Bay Street\, 1st Floor\, Staten Island\, NY\, 10301\, United States
CATEGORIES:Support Groups
ORGANIZER;CN="Next Step Resource & Recovery Center":MAILTO:training@chasiny.org
END:VEVENT
BEGIN:VEVENT
DTSTART;TZID=America/New_York:20240810T100000
DTEND;TZID=America/New_York:20240810T110000
DTSTAMP:20260422T154023
CREATED:20240729T205624Z
LAST-MODIFIED:20240808T150704Z
UID:10000353-1723284000-1723287600@chasiny.org
SUMMARY:Stress Management
DESCRIPTION:Through guided exercises\, group discussions\, and relaxation practices\, you’ll gain valuable skills to navigate the stresses of life. Take a deep breath … and do something good for yourself.
URL:https://chasiny.org/event/stress-management/2024-08-10/
LOCATION:Next Step Resource & Recovery Center\, 56 Bay Street\, 1st Floor\, Staten Island\, NY\, 10301\, United States
CATEGORIES:Support Groups
ORGANIZER;CN="Next Step Resource & Recovery Center":MAILTO:training@chasiny.org
END:VEVENT
BEGIN:VEVENT
DTSTART;TZID=America/New_York:20240807T120000
DTEND;TZID=America/New_York:20240807T130000
DTSTAMP:20260422T154023
CREATED:20240729T205659Z
LAST-MODIFIED:20240730T150830Z
UID:10000358-1723032000-1723035600@chasiny.org
SUMMARY:Men's Support Group
DESCRIPTION:Each session covers topics relevant to men’s lives\, such as mental health\, relationships\, career pressures\, and personal growth. Connect with others who understand your journey and build lasting bonds. We’ll have honest\, open conversations about survival and resilience. (This group is right for anyone who identifies as a man. All groups at Next Step are LGBTQ+ affirming.)
URL:https://chasiny.org/event/mens-support-group/2024-08-07/
LOCATION:Next Step Resource & Recovery Center\, 56 Bay Street\, 1st Floor\, Staten Island\, NY\, 10301\, United States
CATEGORIES:Support Groups
ORGANIZER;CN="Next Step Resource & Recovery Center":MAILTO:training@chasiny.org
END:VEVENT
BEGIN:VEVENT
DTSTART;TZID=America/New_York:20240806T130000
DTEND;TZID=America/New_York:20240806T140000
DTSTAMP:20260422T154023
CREATED:20240729T205814Z
LAST-MODIFIED:20240808T150344Z
UID:10000352-1722949200-1722952800@chasiny.org
SUMMARY:Women's Support Group
DESCRIPTION:Each session covers topics relevant to women’s lives\, such as mental health\, relationships\, career pressures\, and personal growth. Connect with others who understand your journey and build lasting bonds. We’ll have honest\, open conversations about survival and resilience. (This group is right for anyone who identifies as a woman. All groups at Next Step are LGBTQ+ affirming.) \n 
URL:https://chasiny.org/event/womens-support-group/
LOCATION:Next Step Resource & Recovery Center\, 56 Bay Street\, 1st Floor\, Staten Island\, NY\, 10301\, United States
CATEGORIES:Support Groups
ORGANIZER;CN="Next Step Resource & Recovery Center":MAILTO:training@chasiny.org
END:VEVENT
BEGIN:VEVENT
DTSTART;TZID=America/New_York:20240715T100000
DTEND;TZID=America/New_York:20240715T110000
DTSTAMP:20260422T154023
CREATED:20240711T175942Z
LAST-MODIFIED:20240711T182627Z
UID:10000284-1721037600-1721041200@chasiny.org
SUMMARY:Harm Reduction Group
DESCRIPTION:Harm Reduction is a set of practical strategies and ideas aimed at reducing negative consequences associated with drug use. Harm Reduction is also a movement for social justice built on belief in\, and respect for\, the rights of people who use drugs. \nThis group is facilitated by a harm reduction counselor and offers open discussion and topic-based sessions for people who use drugs.\n\n                \n                        \n                            Register for Groups at Next Step\n                            Use this registration form to become a member of Next Step and attend workshops and groups! \n                        \n                        FacebookThis field is for validation purposes and should be left unchanged.Name(Required)\n                            \n                            \n                                                    First\n                                                    \n                                                \n                            \n                            \n                                                            Last\n                                                            \n                                                        \n                            \n                        How do you want to connect?\n								\n								Call me\n							\n								\n								Text me\n							\n								\n								Email\n							\n								\n								Don't reach out/ I prefer to call you (CHASI 718-808-1450)\n							Select AllPhoneWe can text or call. Email(Required)\n                                \n                                    Enter Email\n                                    \n                                \n                                \n                                    Confirm Email\n                                    \n                                \n                                \n                            What group/s would you like to attend?If you're not sure\, let us know if you're open for a phone call or text to get started. Thanks!\n           Save and Continue Later
URL:https://chasiny.org/event/harm-reduction-group/
LOCATION:Next Step Resource & Recovery Center\, 56 Bay Street\, 1st Floor\, Staten Island\, NY\, 10301\, United States
CATEGORIES:Support Groups
ORGANIZER;CN="Next Step Resource & Recovery Center":MAILTO:training@chasiny.org
END:VEVENT
END:VCALENDAR